BEGIN:VCALENDAR
VERSION:2.0
PRODID:-//ZVVT - ECPv6.15.20//NONSGML v1.0//EN
CALSCALE:GREGORIAN
METHOD:PUBLISH
X-WR-CALNAME:ZVVT
X-ORIGINAL-URL:https://zvvt.nl
X-WR-CALDESC:Events for ZVVT
REFRESH-INTERVAL;VALUE=DURATION:PT1H
X-Robots-Tag:noindex
X-PUBLISHED-TTL:PT1H
BEGIN:VTIMEZONE
TZID:Europe/Amsterdam
BEGIN:DAYLIGHT
TZOFFSETFROM:+0100
TZOFFSETTO:+0200
TZNAME:CEST
DTSTART:20210328T010000
END:DAYLIGHT
BEGIN:STANDARD
TZOFFSETFROM:+0200
TZOFFSETTO:+0100
TZNAME:CET
DTSTART:20211031T010000
END:STANDARD
BEGIN:DAYLIGHT
TZOFFSETFROM:+0100
TZOFFSETTO:+0200
TZNAME:CEST
DTSTART:20220327T010000
END:DAYLIGHT
BEGIN:STANDARD
TZOFFSETFROM:+0200
TZOFFSETTO:+0100
TZNAME:CET
DTSTART:20221030T010000
END:STANDARD
BEGIN:DAYLIGHT
TZOFFSETFROM:+0100
TZOFFSETTO:+0200
TZNAME:CEST
DTSTART:20230326T010000
END:DAYLIGHT
BEGIN:STANDARD
TZOFFSETFROM:+0200
TZOFFSETTO:+0100
TZNAME:CET
DTSTART:20231029T010000
END:STANDARD
BEGIN:DAYLIGHT
TZOFFSETFROM:+0100
TZOFFSETTO:+0200
TZNAME:CEST
DTSTART:20240331T010000
END:DAYLIGHT
BEGIN:STANDARD
TZOFFSETFROM:+0200
TZOFFSETTO:+0100
TZNAME:CET
DTSTART:20241027T010000
END:STANDARD
END:VTIMEZONE
BEGIN:VEVENT
DTSTART;TZID=Europe/Amsterdam:20230428T180000
DTEND;TZID=Europe/Amsterdam:20230428T210000
DTSTAMP:20260421T131004
CREATED:20230203T142918Z
LAST-MODIFIED:20230203T142918Z
UID:3890-1682704800-1682715600@zvvt.nl
SUMMARY:ICT event - Meer vrouwen in de ICT: Wat zijn jouw kansen als vrouw? Kom je op 28 april?
DESCRIPTION:\”YOU DON\’T GET OPPORTUNITIES\, YOU CREATE THEM\”\nKIM FUQUA\nLET US CREATE THEM TOGETHER! Kom op vrijdag 28 april naar het ICT event “Meer vrouwen in de ICT: Wat zijn jouw kansen?”. Vanaf 18:00 – 21:00 bij The Extra Mile\, Hessenbergweg 8\, te Amsterdam Zuidoost. \nDit met als doel het bereiken\, inspireren\, voeren van het gesprek met elkaar en het geven van meer inzicht aan zwarte vrouwen\, van alle leeftijden\, over de kansen die er zijn om te werken in de ICT. Er is al jaren een structureel tekort aan technische en niet-technische talenten binnen de ICT. ICT functies behoren tot de best betaalde functies. Dus er zijn kansen. Voor jou\, je familie\, vrienden en kennissen. Je krijgt ook informatie over onze ICT carrièreprogramma waarmee we jou begeleiden en laten opleiden voor een functie in de ICT.  \nSamen met The Extra Mile organiseert Stichting Zwarte vrouwen voor Technologie (ZvvT) het ICT Event. We hebben een panel en afzonderlijke sprekers. Klik hier voor info over onze geweldige spreeksters.  \nKom luisteren\, meepraten\, netwerken en je vragen stellen aan deze experts. Voor meer informatie en kaarten verkoop verwijzen wij naar Eventbrite.
URL:https://zvvt.nl/events/meer-vrouwen-in-de-ict-wat-zijn-jouw-kansen-als-vrouw-2/
ATTACH;FMTTYPE=image/jpeg:https://zvvt.nl/wp-content/uploads/2023/02/Foto-event.jpg
END:VEVENT
BEGIN:VEVENT
DTSTART;TZID=Europe/Amsterdam:20221130T110000
DTEND;TZID=Europe/Amsterdam:20221130T200000
DTSTAMP:20260421T131004
CREATED:20221115T185820Z
LAST-MODIFIED:20221115T185820Z
UID:3889-1669806000-1669838400@zvvt.nl
SUMMARY:Panellid SNiC
DESCRIPTION:[et_pb_section fb_built=\”1\” admin_label=\”section\” _builder_version=\”3.22\”][et_pb_row column_structure=\”1_2\,1_2\” admin_label=\”row\” _builder_version=\”3.25\” background_size=\”initial\” background_position=\”top_left\” background_repeat=\”repeat\”][et_pb_column type=\”1_2\” _builder_version=\”3.25\” custom_padding=\”|||\” custom_padding__hover=\”|||\”][et_pb_text admin_label=\”Text\” _builder_version=\”4.9.4\” background_size=\”initial\” background_position=\”top_left\” background_repeat=\”repeat\”] \nOnze voorzitter Marianne Dorder-Servet is panellid op de Stichting Nationaal informatica Congres (SNiC) op 30 november 2022. Marianne is panellid voor het panel \”Diversity in computer science\”. Voor meer informatie over de sprekers: https://celerit.nl/speakers \nSNiC is the largest national Computer Science and Artificial Intelligence conference\, organized for and by students. This edition\’s theme of the conference is CelerIT\, Swiftness of Technology\, the speed at which the IT sector has evolved and developed in the relative short timespan of 40-60 years. We focus on three aspects: the technology of the past\, the technology of today and the technology of the future. Voor meer informatie over SNiC: https://celerit.nl/ \n[/et_pb_text][/et_pb_column][et_pb_column type=\”1_2\” _builder_version=\”3.25\” custom_padding=\”|||\” custom_padding__hover=\”|||\”][et_pb_image src=\”http://zvvt.nl/wp-content/uploads/2022/11/SNiC185.jpg\” title_text=\”SNiC%91185%93\” _builder_version=\”4.9.4\” _module_preset=\”default\”][/et_pb_image][/et_pb_column][/et_pb_row][/et_pb_section]
URL:https://zvvt.nl/events/panellid-snic-2/
ATTACH;FMTTYPE=image/jpeg:https://zvvt.nl/wp-content/uploads/2022/11/SNiC185.jpg
END:VEVENT
END:VCALENDAR