BEGIN:VCALENDAR
VERSION:2.0
PRODID:-//ZVVT - ECPv6.15.20//NONSGML v1.0//EN
CALSCALE:GREGORIAN
METHOD:PUBLISH
X-ORIGINAL-URL:https://zvvt.nl
X-WR-CALDESC:Events for ZVVT
REFRESH-INTERVAL;VALUE=DURATION:PT1H
X-Robots-Tag:noindex
X-PUBLISHED-TTL:PT1H
BEGIN:VTIMEZONE
TZID:UTC
BEGIN:STANDARD
TZOFFSETFROM:+0000
TZOFFSETTO:+0000
TZNAME:UTC
DTSTART:20250101T000000
END:STANDARD
END:VTIMEZONE
BEGIN:VEVENT
DTSTART;TZID=UTC:20260330T180000
DTEND;TZID=UTC:20260330T210000
DTSTAMP:20260418T113359
CREATED:20251009T210216Z
LAST-MODIFIED:20260325T130925Z
UID:10317-1774893600-1774904400@zvvt.nl
SUMMARY:Masterclass Branding & kanalen inrichten - voor ondernemers
DESCRIPTION:Masterclass Branding & kanalen inrichten – voor ondernemers\nMijn business social mediakanalen succesvol inrichten en gebruiken. Hoe doe ik dat? \nKom naar de masterclass op 30 maart. Klik en aanmelden. \nIn deze masterclass ga je aan de slag met het professioneel inrichten van je social media-kanalen. Je maakt een contentkalender en je leert hoe je statistieken gebruikt om je doelgroep(en) echt te bereiken. Als laatste ga je aan de slag met het bepalen van je branding. \nJe gaat aan de slag met je eigen materiaal (video\, afbeeldingen en teksten) wat je eerder tijdens de voorgaande masterclasses hebt gemaakt of je gaat aan de slag met materiaal wat je zelfstandig hebt gemaakt. Kom met je materiaal en inloggegevens. \nJe was niet aanwezig bij de andere masterclasses? Geen probleem. Meld je vandaag nog aan! \nDatum: maandag 30 maart 2026\nTijd:18:00 – 21:00\nLocatie: De Ondernemerswinkel Amsterdam\, Bijlmerplein 134 \nDeze masterclass word georganiseerd in een samenwerking tussen Digitaliseringsoffensief\, De Ondernemerswinkel en Zwarte vrouwen voor Technologie
URL:https://zvvt.nl/events/nieuwe-masterclassreeks-in-zuidoost-digitaal-groeien-met-ai-en-branding-3/
LOCATION:De Ondernemerswinkel in Zuidoost\, Bijlmerplein 134\, Amsterdam\, 1102 DB\, Netherlands
ATTACH;FMTTYPE=image/jpeg:https://zvvt.nl/wp-content/uploads/2025/10/ZVVT-Masterclass-Branding-en-kanalen-inrichten-LinkedIn-bericht.jpg
ORGANIZER;CN="Stichting Zwarte vrouwen voor Technologie (ZVVT)":MAILTO:info@zvvt.nl
END:VEVENT
END:VCALENDAR